BEGIN:VCALENDAR
VERSION:2.0
PRODID:-//TMIS 長華國際蒙特梭利實驗教育機構 - ECPv5.4.0.1//NONSGML v1.0//EN
CALSCALE:GREGORIAN
METHOD:PUBLISH
X-WR-CALNAME:TMIS 長華國際蒙特梭利實驗教育機構
X-ORIGINAL-URL:https://tmis.org.tw/?lang=en
X-WR-CALDESC:Events for TMIS 長華國際蒙特梭利實驗教育機構
BEGIN:VTIMEZONE
TZID:Asia/Taipei
BEGIN:STANDARD
TZOFFSETFROM:+0800
TZOFFSETTO:+0800
TZNAME:CST
DTSTART:20220101T000000
END:STANDARD
END:VTIMEZONE
BEGIN:VEVENT
DTSTART;VALUE=DATE:20221010
DTEND;VALUE=DATE:20221011
DTSTAMP:20260425T051627
CREATED:20220602T051234Z
LAST-MODIFIED:20220602T051234Z
UID:2419-1665360000-1665446399@tmis.org.tw
SUMMARY:Double Ten Day Vacation
DESCRIPTION:
URL:https://tmis.org.tw/calendar/double-ten-day-vacation/?lang=en
END:VEVENT
END:VCALENDAR