BEGIN:VCALENDAR
VERSION:2.0
PRODID:-//TMIS 長華國際蒙特梭利實驗教育機構 - ECPv5.4.0.1//NONSGML v1.0//EN
CALSCALE:GREGORIAN
METHOD:PUBLISH
X-WR-CALNAME:TMIS 長華國際蒙特梭利實驗教育機構
X-ORIGINAL-URL:https://tmis.org.tw/?lang=en
X-WR-CALDESC:Events for TMIS 長華國際蒙特梭利實驗教育機構
BEGIN:VTIMEZONE
TZID:Asia/Taipei
BEGIN:STANDARD
TZOFFSETFROM:+0800
TZOFFSETTO:+0800
TZNAME:CST
DTSTART:20230101T000000
END:STANDARD
END:VTIMEZONE
BEGIN:VEVENT
DTSTART;VALUE=DATE:20230109
DTEND;VALUE=DATE:20230110
DTSTAMP:20260425T093242
CREATED:20220602T051730Z
LAST-MODIFIED:20220602T051730Z
UID:2439-1673222400-1673308799@tmis.org.tw
SUMMARY:First Day of 2nd semester
DESCRIPTION:
URL:https://tmis.org.tw/calendar/first-day-of-2nd-semester/?lang=en
END:VEVENT
END:VCALENDAR